BEGIN:VCALENDAR
VERSION:2.0
PRODID:icalendar-ruby
CALSCALE:GREGORIAN
METHOD:PUBLISH
BEGIN:VEVENT
DTSTAMP:20260420T012033Z
UID:46-234552@stmarkirvine.org
DTSTART:20260614T154500Z
DTEND:20260614T190000Z
CLASS:PUBLIC
CREATED:20260419T165007
DESCRIPTION:Orthros - 8:45 AM\nDivine Liturgy - 10:00 AM
LAST-MODIFIED:20260419T165007
LOCATION:St. Mark Orthodox Church - 17840 Sky Park Cir\, Irvine\, CA 92614
SUMMARY:Orthros & Divine Liturgy
URL;VALUE=URI:https://stmarkirvine.org/events/orthros-divine-liturgy/2026-0
 6-14
ATTACH;FILENAME=altar1.jpg;FMTTYPE=image/jpeg:https://dq5pwpg1q8ru0.cloudfr
 ont.net/2025/07/23/19/49/01/dab5db10-a74f-48d6-9cbd-16789083f619/altar1.jp
 g
END:VEVENT
END:VCALENDAR
